BEGIN:VCALENDAR
VERSION:2.0
METHOD:PUBLISH
X-WR-CALNAME;VALUE=TEXT:
PRODID:-//Drupal iCal API//EN
BEGIN:VEVENT
2026-05-07 07:00:00 AEST
2026-05-07 08:30:00 AEST
DTSTART:20260506T210000Z
DTEND:20260506T223000Z
SUMMARY:Middle East Update No.3:  The Strait of Hormuz, Australian Energy Security &amp; Supply Chain Resilience
UID:a2645d98-c2d0-4002-85bc-a8d8e1d93564
URL:https://cais.cass.anu.edu.au/events/middle-east-update-no3-strait-hormuz-australian-energy-security-supply-chain-resilience
END:VEVENT
END:VCALENDAR
